Workbook

Sheet Planificação
A2: AGRUPAMENTO DE ESCOLAS DE VILA REAL DE SANTO ANTÓNIO - CÓD. 145348
A3: ESCOLA SECUNDÁRIA C/3º CICLO DE VILA REAL DE SANTO ANTÓNIO (SEDE CÓD. 403726) – EB 2, 3 Infante D. Fernando – EB1/JI Manuel Cabanas
A4: PLANIFICAÇÃO DE VISITA DE ESTUDO/ INTERCÂMBIO ESCOLAR/SAÍDAS DE CAMPO/OUTRA
A5: Ano letivo ______/______
A7: 1. Identificação e enquadramento
A8: Estabelecimento de Ensino:
A10: ___ Visita de Estudo ____ Intercâmbio Escolar ___ Saída de campo Outra: ________________
A11: Público/Turma alvo (turmas e número total de participantes por turma):
A13: Disciplinas envolvidas:
A16: 2. Aprovações e autorizações
A17: Parecer dos Serviços:
A19: Despacho:
... A38: Objetivos
A39: Eixos Estratégicos | C39: Nº | D39: Questões Orientadoras | H39: Objetivos Específicos
A40: Eixo A – Autoavaliação | C40: A1 | D40: A atividade promoveu reflexão sobre práticas pedagógicas?
C41: A2 | D41: Contribuiu para a melhoria da prática docente?
A42: Eixo B – Liderança e Gestão | C42: B1 | D42: Reforçou a articulação entre estruturas pedagógicas?
C43: B2 | D43: Incentivou a participação dos docentes/alunos na vida organizacional?
A44: Eixo C – Prestação dos serviços educativos | C44: C1 | D44: Teve impacto na aprendizagem dos alunos?
C45: C2 | D45: Promoveu inclusão, inovação ou articulação curricular?
A46: Eixo D – Resultados | C46: D1 | D46: Contribuiu para o sucesso e bem-estar dos alunos?
C47: D2 | D47: Influenciou positivamente os percursos escolares ou competências pessoais?
A48: Modo de avaliação da actividade:
A51: 5. Recursos e custos previstos
A52: Recursos necessários Recursos humanos: Recursos finaceiros: Recursos Materiais: outros:
A54: Transporte a utilizar: Custo:
A56: Alojamento: Custos:
A58: Locais das refeições:
A60: Seguro de viagem e Estadia:
A62: Custo:
A64: Total por aluno: Está incluido no preço:
A66: Total de Encargos:
A68: Custo: ----
A70: Já lhe foi atribuído algum subsídio pelo Ministério da Educação? Em que ano letivo? Sim □ Não □ Ano Letivo ________/_________
... A79: O Diretor

Sheet Alunos subsidiados
C1: AGRUPAMENTO DE ESCOLAS DE VILA REAL DE SANTO ANTÓNIO | D1: AGRUPAMENTO DE ESCOLAS DE VILA REAL DE SANTO ANTÓNIO | E1: AGRUPAMENTO DE ESCOLAS DE VILA REAL DE SANTO ANTÓNIO | F1: AGRUPAMENTO DE ESCOLAS DE VILA REAL DE SANTO ANTÓNIO | G1: AGRUPAMENTO DE ESCOLAS DE VILA REAL DE SANTO ANTÓNIO | H1: AGRUPAMENTO DE ESCOLAS DE VILA REAL DE SANTO ANTÓNIO
C2: RELAÇÃO DE ALUNOS A SUBSIDIAR | D2: RELAÇÃO DE ALUNOS A SUBSIDIAR | E2: RELAÇÃO DE ALUNOS A SUBSIDIAR | F2: RELAÇÃO DE ALUNOS A SUBSIDIAR | G2: RELAÇÃO DE ALUNOS A SUBSIDIAR | H2: RELAÇÃO DE ALUNOS A SUBSIDIAR
C3: Associada à planificação da atividade | Ano letivo 2026/2027 | D3: Associada à planificação da atividade | Ano letivo 2026/2027 | E3: Associada à planificação da atividade | Ano letivo 2026/2027 | F3: Associada à planificação da atividade | Ano letivo 2026/2027 | G3: Associada à planificação da atividade | Ano letivo 2026/2027 | H3: Associada à planificação da atividade | Ano letivo 2026/2027
A5: Preencher apenas quando existam alunos abrangidos por apoio. Não incluir informação desnecessária. | B5: Preencher apenas quando existam alunos abrangidos por apoio. Não incluir informação desnecessária. | C5: Preencher apenas quando existam alunos abrangidos por apoio. Não incluir informação desnecessária. | D5: Preencher apenas quando existam alunos abrangidos por apoio. Não incluir informação desnecessária. | E5: Preencher apenas quando existam alunos abrangidos por apoio. Não incluir informação desnecessária. | F5: Preencher apenas quando existam alunos abrangidos por apoio. Não incluir informação desnecessária. | G5: Preencher apenas quando existam alunos abrangidos por apoio. Não incluir informação desnecessária. | H5: Preencher apenas quando existam alunos abrangidos por apoio. Não incluir informação desnecessária.
A7: Escalão A | B7: Escalão A | C7: Escalão B | D7: Escalão B | E7: Total de alunos | F7: Total de alunos | G7: Total solicitado | H7: Total solicitado
G8: =IF(COUNT(G11:G50)=0,"",SUM(G11:G50))
A10: N.º de processo | B10: Nome do aluno | C10: Ano | D10: Turma | E10: Escalão | F10: Custo por aluno | G10: Subsídio solicitado | H10: Observações
F11: =IF(B11="","",IF(COUNT('Pedido de subsídio'!$E$13:$E$17)=0,"",'Pedido de subsídio'!$E$18)) | G11: =IF(OR(B11="",E11=""),"",IF(E11="A",IF('Pedido de subsídio'!$E$22="","",'Pedido de subsídio'!$E$22),IF(E11="B",IF('Pedido de subsídio'!$E$23="","",'Pedido de subsídio'!$E$23),"")))
F12: =IF(B12="","",IF(COUNT('Pedido de subsídio'!$E$13:$E$17)=0,"",'Pedido de subsídio'!$E$18)) | G12: =IF(OR(B12="",E12=""),"",IF(E12="A",IF('Pedido de subsídio'!$E$22="","",'Pedido de subsídio'!$E$22),IF(E12="B",IF('Pedido de subsídio'!$E$23="","",'Pedido de subsídio'!$E$23),"")))
F13: =IF(B13="","",IF(COUNT('Pedido de subsídio'!$E$13:$E$17)=0,"",'Pedido de subsídio'!$E$18)) | G13: =IF(OR(B13="",E13=""),"",IF(E13="A",IF('Pedido de subsídio'!$E$22="","",'Pedido de subsídio'!$E$22),IF(E13="B",IF('Pedido de subsídio'!$E$23="","",'Pedido de subsídio'!$E$23),"")))
F14: =IF(B14="","",IF(COUNT('Pedido de subsídio'!$E$13:$E$17)=0,"",'Pedido de subsídio'!$E$18)) | G14: =IF(OR(B14="",E14=""),"",IF(E14="A",IF('Pedido de subsídio'!$E$22="","",'Pedido de subsídio'!$E$22),IF(E14="B",IF('Pedido de subsídio'!$E$23="","",'Pedido de subsídio'!$E$23),"")))
F15: =IF(B15="","",IF(COUNT('Pedido de subsídio'!$E$13:$E$17)=0,"",'Pedido de subsídio'!$E$18)) | G15: =IF(OR(B15="",E15=""),"",IF(E15="A",IF('Pedido de subsídio'!$E$22="","",'Pedido de subsídio'!$E$22),IF(E15="B",IF('Pedido de subsídio'!$E$23="","",'Pedido de subsídio'!$E$23),"")))
F16: =IF(B16="","",IF(COUNT('Pedido de subsídio'!$E$13:$E$17)=0,"",'Pedido de subsídio'!$E$18)) | G16: =IF(OR(B16="",E16=""),"",IF(E16="A",IF('Pedido de subsídio'!$E$22="","",'Pedido de subsídio'!$E$22),IF(E16="B",IF('Pedido de subsídio'!$E$23="","",'Pedido de subsídio'!$E$23),"")))
F17: =IF(B17="","",IF(COUNT('Pedido de subsídio'!$E$13:$E$17)=0,"",'Pedido de subsídio'!$E$18)) | G17: =IF(OR(B17="",E17=""),"",IF(E17="A",IF('Pedido de subsídio'!$E$22="","",'Pedido de subsídio'!$E$22),IF(E17="B",IF('Pedido de subsídio'!$E$23="","",'Pedido de subsídio'!$E$23),"")))
F18: =IF(B18="","",IF(COUNT('Pedido de subsídio'!$E$13:$E$17)=0,"",'Pedido de subsídio'!$E$18)) | G18: =IF(OR(B18="",E18=""),"",IF(E18="A",IF('Pedido de subsídio'!$E$22="","",'Pedido de subsídio'!$E$22),IF(E18="B",IF('Pedido de subsídio'!$E$23="","",'Pedido de subsídio'!$E$23),"")))
F19: =IF(B19="","",IF(COUNT('Pedido de subsídio'!$E$13:$E$17)=0,"",'Pedido de subsídio'!$E$18)) | G19: =IF(OR(B19="",E19=""),"",IF(E19="A",IF('Pedido de subsídio'!$E$22="","",'Pedido de subsídio'!$E$22),IF(E19="B",IF('Pedido de subsídio'!$E$23="","",'Pedido de subsídio'!$E$23),"")))
F20: =IF(B20="","",IF(COUNT('Pedido de subsídio'!$E$13:$E$17)=0,"",'Pedido de subsídio'!$E$18)) | G20: =IF(OR(B20="",E20=""),"",IF(E20="A",IF('Pedido de subsídio'!$E$22="","",'Pedido de subsídio'!$E$22),IF(E20="B",IF('Pedido de subsídio'!$E$23="","",'Pedido de subsídio'!$E$23),"")))
F21: =IF(B21="","",IF(COUNT('Pedido de subsídio'!$E$13:$E$17)=0,"",'Pedido de subsídio'!$E$18)) | G21: =IF(OR(B21="",E21=""),"",IF(E21="A",IF('Pedido de subsídio'!$E$22="","",'Pedido de subsídio'!$E$22),IF(E21="B",IF('Pedido de subsídio'!$E$23="","",'Pedido de subsídio'!$E$23),"")))
F22: =IF(B22="","",IF(COUNT('Pedido de subsídio'!$E$13:$E$17)=0,"",'Pedido de subsídio'!$E$18)) | G22: =IF(OR(B22="",E22=""),"",IF(E22="A",IF('Pedido de subsídio'!$E$22="","",'Pedido de subsídio'!$E$22),IF(E22="B",IF('Pedido de subsídio'!$E$23="","",'Pedido de subsídio'!$E$23),"")))
... F50: =IF(B50="","",IF(COUNT('Pedido de subsídio'!$E$13:$E$17)=0,"",'Pedido de subsídio'!$E$18)) | G50: =IF(OR(B50="",E50=""),"",IF(E50="A",IF('Pedido de subsídio'!$E$22="","",'Pedido de subsídio'!$E$22),IF(E50="B",IF('Pedido de subsídio'!$E$23="","",'Pedido de subsídio'!$E$23),"")))
A52: Entregar esta relação na Secretaria após a aprovação, juntamente com a planificação, quando aplicável. | B52: Entregar esta relação na Secretaria após a aprovação, juntamente com a planificação, quando aplicável. | C52: Entregar esta relação na Secretaria após a aprovação, juntamente com a planificação, quando aplicável. | D52: Entregar esta relação na Secretaria após a aprovação, juntamente com a planificação, quando aplicável. | E52: Entregar esta relação na Secretaria após a aprovação, juntamente com a planificação, quando aplicável. | F52: Entregar esta relação na Secretaria após a aprovação, juntamente com a planificação, quando aplicável. | G52: Entregar esta relação na Secretaria após a aprovação, juntamente com a planificação, quando aplicável. | H52: Entregar esta relação na Secretaria após a aprovação, juntamente com a planificação, quando aplicável. | I52: Entregar esta relação na Secretaria após a aprovação, juntamente com a planificação, quando aplicável. | J52: Entregar esta relação na Secretaria após a aprovação, juntamente com a planificação, quando aplicável.

Sheet Pedido de subsídio
C1: AGRUPAMENTO DE ESCOLAS DE VILA REAL DE SANTO ANTÓNIO | D1: AGRUPAMENTO DE ESCOLAS DE VILA REAL DE SANTO ANTÓNIO | E1: AGRUPAMENTO DE ESCOLAS DE VILA REAL DE SANTO ANTÓNIO | F1: AGRUPAMENTO DE ESCOLAS DE VILA REAL DE SANTO ANTÓNIO | G1: AGRUPAMENTO DE ESCOLAS DE VILA REAL DE SANTO ANTÓNIO | H1: AGRUPAMENTO DE ESCOLAS DE VILA REAL DE SANTO ANTÓNIO | I1: AGRUPAMENTO DE ESCOLAS DE VILA REAL DE SANTO ANTÓNIO | J1: AGRUPAMENTO DE ESCOLAS DE VILA REAL DE SANTO ANTÓNIO
C2: PEDIDO DE SUBSÍDIO PARA ATIVIDADE | D2: PEDIDO DE SUBSÍDIO PARA ATIVIDADE | E2: PEDIDO DE SUBSÍDIO PARA ATIVIDADE | F2: PEDIDO DE SUBSÍDIO PARA ATIVIDADE | G2: PEDIDO DE SUBSÍDIO PARA ATIVIDADE | H2: PEDIDO DE SUBSÍDIO PARA ATIVIDADE | I2: PEDIDO DE SUBSÍDIO PARA ATIVIDADE | J2: PEDIDO DE SUBSÍDIO PARA ATIVIDADE
C3: Valores por participante e verba total solicitada | Ano letivo 2026/2027 | D3: Valores por participante e verba total solicitada | Ano letivo 2026/2027 | E3: Valores por participante e verba total solicitada | Ano letivo 2026/2027 | F3: Valores por participante e verba total solicitada | Ano letivo 2026/2027 | G3: Valores por participante e verba total solicitada | Ano letivo 2026/2027 | H3: Valores por participante e verba total solicitada | Ano letivo 2026/2027 | I3: Valores por participante e verba total solicitada | Ano letivo 2026/2027 | J3: Valores por participante e verba total solicitada | Ano letivo 2026/2027
A6: Identificação da atividade | B6: Identificação da atividade | C6: Identificação da atividade | D6: Identificação da atividade | E6: Identificação da atividade | F6: Identificação da atividade | G6: Identificação da atividade | H6: Identificação da atividade | I6: Identificação da atividade | J6: Identificação da atividade
A7: Designação | B7: Designação
A8: Data de realização | B8: Data de realização | F8: Destino | G8: Destino
A9: Data de aprovação no Conselho Pedagógico | B9: Data de aprovação no Conselho Pedagógico | F9: Transporte | G9: Transporte
A11: Custo por participante | B11: Custo por participante | C11: Custo por participante | D11: Custo por participante | E11: Custo por participante | F11: Custo por participante | G11: Custo por participante | H11: Custo por participante | I11: Custo por participante | J11: Custo por participante
A12: Categoria | B12: Categoria | C12: Categoria | D12: Categoria | E12: Valor por participante | F12: Valor por participante | G12: Observações | H12: Observações | I12: Observações | J12: Observações
A13: Transporte | B13: Transporte | C13: Transporte | D13: Transporte
A14: Alojamento | B14: Alojamento | C14: Alojamento | D14: Alojamento
A15: Alimentação | B15: Alimentação | C15: Alimentação | D15: Alimentação
A16: Entradas ou inscrições | B16: Entradas ou inscrições | C16: Entradas ou inscrições | D16: Entradas ou inscrições
A17: Outros | B17: Outros | C17: Outros | D17: Outros
A18: Total por participante | B18: Total por participante | C18: Total por participante | D18: Total por participante | E18: =IF(COUNT(E13:E17)=0,"",SUM(E13:E17))
A20: Verba a subsidiar | B20: Verba a subsidiar | C20: Verba a subsidiar | D20: Verba a subsidiar | E20: Verba a subsidiar | F20: Verba a subsidiar | G20: Verba a subsidiar | H20: Verba a subsidiar | I20: Verba a subsidiar | J20: Verba a subsidiar
A21: Escalão | B21: Escalão | C21: Escalão | D21: Escalão | E21: Subsídio por aluno | F21: Subsídio por aluno | G21: N.º de alunos | H21: N.º de alunos | I21: Total | J21: Total
A22: Escalão A | B22: Escalão A | C22: Escalão A | D22: Escalão A | I22: =IF(E22="","",E22*G22)
A23: Escalão B | B23: Escalão B | C23: Escalão B | D23: Escalão B | I23: =IF(E23="","",E23*G23)
A24: Total da verba solicitada | B24: Total da verba solicitada | C24: Total da verba solicitada | D24: Total da verba solicitada | I24: =IF(COUNT(I22:I23)=0,"",SUM(I22:I23))
A26: Custo total previsto na planificação | B26: Custo total previsto na planificação | F26: Total solicitado | G26: Total solicitado | H26: =IF(I24=0,"",I24)
A27: Verificação dos valores | B27: Verificação dos valores
A29: Observações | B29: Observações
A31: Docente responsável | B31: Docente responsável | F31: Data | G31: Data
A33: Os valores de subsídio por aluno são campos de preenchimento. Não foi aplicada qualquer percentagem automática, porque o apoio deve respeitar a decisão e as regras vigentes. | B33: Os valores de subsídio por aluno são campos de preenchimento. Não foi aplicada qualquer percentagem automática, porque o apoio deve respeitar a decisão e as regras vigentes. | C33: Os valores de subsídio por aluno são campos de preenchimento. Não foi aplicada qualquer percentagem automática, porque o apoio deve respeitar a decisão e as regras vigentes. | D33: Os valores de subsídio por aluno são campos de preenchimento. Não foi aplicada qualquer percentagem automática, porque o apoio deve respeitar a decisão e as regras vigentes. | E33: Os valores de subsídio por aluno são campos de preenchimento. Não foi aplicada qualquer percentagem automática, porque o apoio deve respeitar a decisão e as regras vigentes. | F33: Os valores de subsídio por aluno são campos de preenchimento. Não foi aplicada qualquer percentagem automática, porque o apoio deve respeitar a decisão e as regras vigentes. | G33: Os valores de subsídio por aluno são campos de preenchimento. Não foi aplicada qualquer percentagem automática, porque o apoio deve respeitar a decisão e as regras vigentes. | H33: Os valores de subsídio por aluno são campos de preenchimento. Não foi aplicada qualquer percentagem automática, porque o apoio deve respeitar a decisão e as regras vigentes. | I33: Os valores de subsídio por aluno são campos de preenchimento. Não foi aplicada qualquer percentagem automática, porque o apoio deve respeitar a decisão e as regras vigentes. | J33: Os valores de subsídio por aluno são campos de preenchimento. Não foi aplicada qualquer percentagem automática, porque o apoio deve respeitar a decisão e as regras vigentes.

Sheet Apoio ao preenchimento
C1: AGRUPAMENTO DE ESCOLAS DE VILA REAL DE SANTO ANTÓNIO | D1: AGRUPAMENTO DE ESCOLAS DE VILA REAL DE SANTO ANTÓNIO | E1: AGRUPAMENTO DE ESCOLAS DE VILA REAL DE SANTO ANTÓNIO | F1: AGRUPAMENTO DE ESCOLAS DE VILA REAL DE SANTO ANTÓNIO | G1: AGRUPAMENTO DE ESCOLAS DE VILA REAL DE SANTO ANTÓNIO | H1: AGRUPAMENTO DE ESCOLAS DE VILA REAL DE SANTO ANTÓNIO
C2: APOIO AO PREENCHIMENTO | D2: APOIO AO PREENCHIMENTO | E2: APOIO AO PREENCHIMENTO | F2: APOIO AO PREENCHIMENTO | G2: APOIO AO PREENCHIMENTO | H2: APOIO AO PREENCHIMENTO
C3: Síntese do Manual e do Guia Rápido do PAA 2026/2027 | D3: Síntese do Manual e do Guia Rápido do PAA 2026/2027 | E3: Síntese do Manual e do Guia Rápido do PAA 2026/2027 | F3: Síntese do Manual e do Guia Rápido do PAA 2026/2027 | G3: Síntese do Manual e do Guia Rápido do PAA 2026/2027 | H3: Síntese do Manual e do Guia Rápido do PAA 2026/2027
A5: Consultar esta folha antes de preencher a planificação e sempre que seja necessário atualizar datas, custos ou destinatários. | B5: Consultar esta folha antes de preencher a planificação e sempre que seja necessário atualizar datas, custos ou destinatários. | C5: Consultar esta folha antes de preencher a planificação e sempre que seja necessário atualizar datas, custos ou destinatários. | D5: Consultar esta folha antes de preencher a planificação e sempre que seja necessário atualizar datas, custos ou destinatários. | E5: Consultar esta folha antes de preencher a planificação e sempre que seja necessário atualizar datas, custos ou destinatários. | F5: Consultar esta folha antes de preencher a planificação e sempre que seja necessário atualizar datas, custos ou destinatários. | G5: Consultar esta folha antes de preencher a planificação e sempre que seja necessário atualizar datas, custos ou destinatários. | H5: Consultar esta folha antes de preencher a planificação e sempre que seja necessário atualizar datas, custos ou destinatários.
A7: Responsabilidades | B7: Responsabilidades | C7: Responsabilidades | D7: Responsabilidades | E7: Responsabilidades | F7: Responsabilidades | G7: Responsabilidades | H7: Responsabilidades
A8: Interveniente | B8: Quem é | C8: Quem é | D8: Função | E8: Função | F8: Função | G8: Função | H8: Função
A9: Proponente | B9: Docente responsável | C9: Docente responsável | D9: Planifica, regista, executa e avalia. | E9: Planifica, regista, executa e avalia. | F9: Planifica, regista, executa e avalia. | G9: Planifica, regista, executa e avalia. | H9: Planifica, regista, executa e avalia.
A10: Validador | B10: Representante do Grupo Disciplinar | C10: Representante do Grupo Disciplinar | D10: Valida a proposta e consolida a informação do Grupo. | E10: Valida a proposta e consolida a informação do Grupo. | F10: Valida a proposta e consolida a informação do Grupo. | G10: Valida a proposta e consolida a informação do Grupo. | H10: Valida a proposta e consolida a informação do Grupo.
A11: Coordenador | B11: Coordenador do Departamento ou de Projetos | C11: Coordenador do Departamento ou de Projetos | D11: Supervisiona e valida. | E11: Supervisiona e valida. | F11: Supervisiona e valida. | G11: Supervisiona e valida. | H11: Supervisiona e valida.
A12: Aprovador | B12: Coordenação do PAA | C12: Coordenação do PAA | D12: Aprova o registo na plataforma. | E12: Aprova o registo na plataforma. | F12: Aprova o registo na plataforma. | G12: Aprova o registo na plataforma. | H12: Aprova o registo na plataforma.
A14: Destinatários | B14: Destinatários | C14: Destinatários | D14: Destinatários | E14: Destinatários | F14: Destinatários | G14: Destinatários | H14: Destinatários
A15: Tipo | B15: Tipo | C15: Seleção no Inovar PAA | D15: Seleção no Inovar PAA | E15: Seleção no Inovar PAA | F15: Seleção no Inovar PAA | G15: Seleção no Inovar PAA | H15: Seleção no Inovar PAA
A16: Agrupamento | B16: Agrupamento | C16: Selecionar todas as turmas. | D16: Selecionar todas as turmas. | E16: Selecionar todas as turmas. | F16: Selecionar todas as turmas. | G16: Selecionar todas as turmas. | H16: Selecionar todas as turmas.
A17: Comunidade Escolar | B17: Comunidade Escolar | C17: Selecionar todas as turmas, os departamentos e os restantes intervenientes. | D17: Selecionar todas as turmas, os departamentos e os restantes intervenientes. | E17: Selecionar todas as turmas, os departamentos e os restantes intervenientes. | F17: Selecionar todas as turmas, os departamentos e os restantes intervenientes. | G17: Selecionar todas as turmas, os departamentos e os restantes intervenientes. | H17: Selecionar todas as turmas, os departamentos e os restantes intervenientes.
A18: Alguns alunos | B18: Alguns alunos | C18: Selecionar apenas os alunos, sem selecionar a turma completa. | D18: Selecionar apenas os alunos, sem selecionar a turma completa. | E18: Selecionar apenas os alunos, sem selecionar a turma completa. | F18: Selecionar apenas os alunos, sem selecionar a turma completa. | G18: Selecionar apenas os alunos, sem selecionar a turma completa. | H18: Selecionar apenas os alunos, sem selecionar a turma completa.
... A48: Contacto PAA: paa@aevrsa.com | B48: Contacto PAA: paa@aevrsa.com | C48: Contacto PAA: paa@aevrsa.com | D48: Contacto PAA: paa@aevrsa.com | E48: Contacto PAA: paa@aevrsa.com | F48: Contacto PAA: paa@aevrsa.com | G48: Contacto PAA: paa@aevrsa.com | H48: Contacto PAA: paa@aevrsa.com
